BEGIN:VCALENDAR
VERSION:2.0
PRODID:-//Squarespace Inc/Squarespace 6//v6//EN
BEGIN:VEVENT
UID:5b7350b303ce64cc25ff6398@squarespace.com
DTSTAMP:20180814T215940Z
DTSTART:20180813T220000Z
DTEND:20180813T230000Z
SUMMARY:Body Corporate Meeting TEST
END:VEVENT
END:VCALENDAR
