BEGIN:VCALENDAR
VERSION:2.0
PRODID:-//Squarespace Inc/Squarespace 6//v6//EN
BEGIN:VEVENT
UID:5b8333a2575d1f3286d0f2cd@squarespace.com
DTSTAMP:20180826T231203Z
DTSTART:20181205T223000Z
DTEND:20181205T233000Z
SUMMARY:AGM
END:VEVENT
END:VCALENDAR
