BEGIN:VCALENDAR
VERSION:2.0
PRODID:-//Squarespace Inc/Squarespace 6//v6//EN
BEGIN:VEVENT
UID:5bb5bf8d7817f73b3f357d0d@squarespace.com
DTSTAMP:20181004T072437Z
DTSTART:20181013T203000Z
DTEND:20181013T220000Z
SUMMARY:Wine Tasting and Meet Your Neighbours
END:VEVENT
END:VCALENDAR
